Package: monocle Version: 2.35.0 Command: /Library/Frameworks/R.framework/Resources/bin/R CMD INSTALL monocle StartedAt: 2025-02-09 15:08:39 -0500 (Sun, 09 Feb 2025) EndedAt: 2025-02-09 15:09:02 -0500 (Sun, 09 Feb 2025) EllapsedTime: 22.7 seconds RetCode: 0 Status: OK