Package: monocle Version: 2.35.0 Command: rm -rf monocle.buildbin-libdir && mkdir monocle.buildbin-libdir && E:\biocbuild\bbs-3.21-bioc\R\bin\R.exe CMD INSTALL --build --library=monocle.buildbin-libdir monocle_2.35.0.tar.gz StartedAt: 2025-02-10 08:11:34 -0500 (Mon, 10 Feb 2025) EndedAt: 2025-02-10 08:13:48 -0500 (Mon, 10 Feb 2025) EllapsedTime: 133.4 seconds RetCode: 0 Status: OK PackageFile: monocle_2.35.0.zip PackageFileSize: 1.697 MiB