Package: monocle Version: 2.35.0 Command: chmod a+r monocle -R && E:\biocbuild\bbs-3.21-bioc\R\bin\R.exe CMD build --keep-empty-dirs --no-resave-data monocle StartedAt: 2025-02-09 20:01:40 -0500 (Sun, 09 Feb 2025) EndedAt: 2025-02-09 20:03:01 -0500 (Sun, 09 Feb 2025) EllapsedTime: 81.9 seconds RetCode: 0 Status: OK PackageFile: monocle_2.35.0.tar.gz PackageFileSize: 8.939 MiB