Package: monocle Version: 2.35.0 Command: E:\biocbuild\bbs-3.21-bioc\R\bin\R.exe CMD check --no-multiarch --install=check:monocle.install-out.txt --library=E:\biocbuild\bbs-3.21-bioc\R\library --no-vignettes --timings monocle_2.35.0.tar.gz StartedAt: 2025-02-10 03:08:05 -0500 (Mon, 10 Feb 2025) EndedAt: 2025-02-10 03:10:25 -0500 (Mon, 10 Feb 2025) EllapsedTime: 140.9 seconds RetCode: 0 Status: OK CheckDir: monocle.Rcheck Warnings: 0