Package: monocle Version: 2.35.0 Command: E:\biocbuild\bbs-3.21-bioc\R\bin\R.exe CMD INSTALL monocle StartedAt: 2025-02-03 15:44:06 -0500 (Mon, 03 Feb 2025) EndedAt: 2025-02-03 15:45:31 -0500 (Mon, 03 Feb 2025) EllapsedTime: 85.4 seconds RetCode: 0 Status: OK