Package: mosaics Version: 2.45.0 Command: /Library/Frameworks/R.framework/Resources/bin/R CMD build --keep-empty-dirs --no-resave-data mosaics StartedAt: 2025-02-09 17:00:24 -0500 (Sun, 09 Feb 2025) EndedAt: 2025-02-09 17:01:23 -0500 (Sun, 09 Feb 2025) EllapsedTime: 58.6 seconds RetCode: 0 Status: OK PackageFile: mosaics_2.45.0.tar.gz PackageFileSize: 2.043 MiB