Package: mosaics Version: 2.45.0 Command: /home/biocbuild/R/R/bin/R CMD build --keep-empty-dirs --no-resave-data mosaics StartedAt: 2025-01-29 00:31:05 -0000 (Wed, 29 Jan 2025) EndedAt: 2025-01-29 00:34:48 -0000 (Wed, 29 Jan 2025) EllapsedTime: 223.1 seconds RetCode: 0 Status: OK PackageFile: mosaics_2.45.0.tar.gz PackageFileSize: 2.038 MiB