Package: mosaics Version: 2.45.0 Command: /home/biocbuild/R/R/bin/R CMD check --install=check:mosaics.install-out.txt --library=/home/biocbuild/R/R/site-library --no-vignettes --timings mosaics_2.45.0.tar.gz StartedAt: 2025-01-28 12:42:47 -0000 (Tue, 28 Jan 2025) EndedAt: 2025-01-28 12:47:05 -0000 (Tue, 28 Jan 2025) EllapsedTime: 257.4 seconds RetCode: 0 Status: OK CheckDir: mosaics.Rcheck Warnings: 0