Package: mosaics Version: 2.45.0 Command: /home/biocbuild/R/R/bin/R CMD INSTALL mosaics StartedAt: 2025-01-29 19:47:45 -0000 (Wed, 29 Jan 2025) EndedAt: 2025-01-29 19:48:55 -0000 (Wed, 29 Jan 2025) EllapsedTime: 70.8 seconds RetCode: 0 Status: OK