Package: mosaics Version: 2.45.0 Command: rm -rf mosaics.buildbin-libdir && mkdir mosaics.buildbin-libdir && /Users/biocbuild/BBS/utils/build-universal.sh mosaics_2.45.0.tar.gz /Library/Frameworks/R.framework/Resources/bin/R mosaics.buildbin-libdir StartedAt: 2025-02-10 01:03:43 -0500 (Mon, 10 Feb 2025) EndedAt: 2025-02-10 01:04:49 -0500 (Mon, 10 Feb 2025) EllapsedTime: 65.6 seconds RetCode: 0 Status: OK PackageFile: mosaics_2.45.0.tgz PackageFileSize: 1.837 MiB