Package: mosaics Version: 2.45.0 Command: /Library/Frameworks/R.framework/Resources/bin/R CMD check --install=check:mosaics.install-out.txt --library=/Library/Frameworks/R.framework/Resources/library --no-vignettes --timings mosaics_2.45.0.tar.gz StartedAt: 2025-02-09 22:03:28 -0500 (Sun, 09 Feb 2025) EndedAt: 2025-02-09 22:07:04 -0500 (Sun, 09 Feb 2025) EllapsedTime: 216.4 seconds RetCode: 0 Status: OK CheckDir: mosaics.Rcheck Warnings: 0