Package: mosaics Version: 2.45.0 Command: /Library/Frameworks/R.framework/Resources/bin/R CMD INSTALL mosaics StartedAt: 2025-02-12 15:15:54 -0500 (Wed, 12 Feb 2025) EndedAt: 2025-02-12 15:16:54 -0500 (Wed, 12 Feb 2025) EllapsedTime: 60.0 seconds RetCode: 0 Status: OK