Package: mosaics Version: 2.45.0 Command: rm -rf mosaics.buildbin-libdir && mkdir mosaics.buildbin-libdir && E:\biocbuild\bbs-3.21-bioc\R\bin\R.exe CMD INSTALL --build --library=mosaics.buildbin-libdir mosaics_2.45.0.tar.gz StartedAt: 2025-02-10 08:11:52 -0500 (Mon, 10 Feb 2025) EndedAt: 2025-02-10 08:14:00 -0500 (Mon, 10 Feb 2025) EllapsedTime: 127.3 seconds RetCode: 0 Status: OK PackageFile: mosaics_2.45.0.zip PackageFileSize: 1.963 MiB