Package: mosaics Version: 2.45.0 Command: chmod a+r mosaics -R && E:\biocbuild\bbs-3.21-bioc\R\bin\R.exe CMD build --keep-empty-dirs --no-resave-data mosaics StartedAt: 2025-02-12 20:07:49 -0500 (Wed, 12 Feb 2025) EndedAt: 2025-02-12 20:11:40 -0500 (Wed, 12 Feb 2025) EllapsedTime: 231.6 seconds RetCode: 0 Status: OK PackageFile: mosaics_2.45.0.tar.gz PackageFileSize: 1.852 MiB