Package: mosdef Version: 1.3.1 Maintainer: Federico Marini MaintainerEmail: marinif at uni-mainz.de git_url: https://git.bioconductor.org/packages/mosdef git_branch: devel git_last_commit: de8bb7a git_last_commit_date: 2024-12-19 16:13:10 -0500 (Thu, 19 Dec 2024)