Package: mosdef Version: 1.3.1 Command: rm -rf mosdef.buildbin-libdir && mkdir mosdef.buildbin-libdir && /Users/biocbuild/BBS/utils/build-universal.sh mosdef_1.3.1.tar.gz /Library/Frameworks/R.framework/Resources/bin/R mosdef.buildbin-libdir StartedAt: 2025-02-04 22:23:45 -0500 (Tue, 04 Feb 2025) EndedAt: 2025-02-04 22:24:06 -0500 (Tue, 04 Feb 2025) EllapsedTime: 20.3 seconds RetCode: 0 Status: OK PackageFile: mosdef_1.3.1.tgz PackageFileSize: 4.656 MiB