Package: mosdef Version: 1.3.1 Command: /Library/Frameworks/R.framework/Resources/bin/R CMD check --install=check:mosdef.install-out.txt --library=/Library/Frameworks/R.framework/Resources/library --no-vignettes --timings mosdef_1.3.1.tar.gz StartedAt: 2025-02-04 20:14:55 -0500 (Tue, 04 Feb 2025) EndedAt: 2025-02-04 20:19:06 -0500 (Tue, 04 Feb 2025) EllapsedTime: 250.8 seconds RetCode: 0 Status: OK CheckDir: mosdef.Rcheck Warnings: 0