Package: mosdef Version: 1.3.1 Command: /Library/Frameworks/R.framework/Resources/bin/R CMD INSTALL mosdef StartedAt: 2025-02-04 15:20:50 -0500 (Tue, 04 Feb 2025) EndedAt: 2025-02-04 15:21:08 -0500 (Tue, 04 Feb 2025) EllapsedTime: 18.6 seconds RetCode: 0 Status: OK