Package: mosdef Version: 1.3.1 Command: /home/biocbuild/R/R/bin/R CMD INSTALL mosdef StartedAt: 2025-01-29 20:18:53 -0000 (Wed, 29 Jan 2025) EndedAt: 2025-01-29 20:19:55 -0000 (Wed, 29 Jan 2025) EllapsedTime: 62.0 seconds RetCode: 0 Status: OK