Package: mosdef Version: 1.3.1 Command: /Library/Frameworks/R.framework/Resources/bin/R CMD build --keep-empty-dirs --no-resave-data mosdef StartedAt: 2025-02-09 17:32:09 -0500 (Sun, 09 Feb 2025) EndedAt: 2025-02-09 17:39:57 -0500 (Sun, 09 Feb 2025) EllapsedTime: 468.0 seconds RetCode: 0 Status: OK PackageFile: mosdef_1.3.1.tar.gz PackageFileSize: 4.547 MiB