Package: mosdef Version: 1.3.1 Command: /Library/Frameworks/R.framework/Resources/bin/R CMD INSTALL mosdef StartedAt: 2025-02-09 15:34:13 -0500 (Sun, 09 Feb 2025) EndedAt: 2025-02-09 15:35:16 -0500 (Sun, 09 Feb 2025) EllapsedTime: 63.0 seconds RetCode: 0 Status: OK