Package: mosdef Version: 1.3.1 Command: /home/biocbuild/bbs-3.21-bioc/R/bin/R CMD build --keep-empty-dirs --no-resave-data mosdef StartedAt: 2025-02-04 18:12:22 -0500 (Tue, 04 Feb 2025) EndedAt: 2025-02-04 18:17:35 -0500 (Tue, 04 Feb 2025) EllapsedTime: 312.3 seconds RetCode: 0 Status: OK PackageFile: mosdef_1.3.1.tar.gz PackageFileSize: 4.414 MiB