Package: mosdef Version: 1.3.1 Command: /home/biocbuild/bbs-3.21-bioc/R/bin/R CMD INSTALL mosdef StartedAt: 2025-02-04 15:45:44 -0500 (Tue, 04 Feb 2025) EndedAt: 2025-02-04 15:46:30 -0500 (Tue, 04 Feb 2025) EllapsedTime: 45.9 seconds RetCode: 0 Status: OK