Package: mosdef Version: 1.3.1 Command: rm -rf mosdef.buildbin-libdir && mkdir mosdef.buildbin-libdir && E:\biocbuild\bbs-3.21-bioc\R\bin\R.exe CMD INSTALL --build --library=mosdef.buildbin-libdir mosdef_1.3.1.tar.gz StartedAt: 2025-02-10 08:11:57 -0500 (Mon, 10 Feb 2025) EndedAt: 2025-02-10 08:12:55 -0500 (Mon, 10 Feb 2025) EllapsedTime: 57.6 seconds RetCode: 0 Status: OK PackageFile: mosdef_1.3.1.zip PackageFileSize: 3.617 MiB