Package: mosdef Version: 1.3.1 Command: chmod a+r mosdef -R && E:\biocbuild\bbs-3.21-bioc\R\bin\R.exe CMD build --keep-empty-dirs --no-resave-data mosdef StartedAt: 2025-02-09 20:03:02 -0500 (Sun, 09 Feb 2025) EndedAt: 2025-02-09 20:19:11 -0500 (Sun, 09 Feb 2025) EllapsedTime: 969.0 seconds RetCode: 0 Status: OK PackageFile: mosdef_1.3.1.tar.gz PackageFileSize: 3.515 MiB