Package: mosdef Version: 1.3.1 Command: E:\biocbuild\bbs-3.21-bioc\R\bin\R.exe CMD check --no-multiarch --install=check:mosdef.install-out.txt --library=E:\biocbuild\bbs-3.21-bioc\R\library --no-vignettes --timings mosdef_1.3.1.tar.gz StartedAt: 2025-02-10 03:10:07 -0500 (Mon, 10 Feb 2025) EndedAt: 2025-02-10 03:23:10 -0500 (Mon, 10 Feb 2025) EllapsedTime: 783.1 seconds RetCode: 0 Status: OK CheckDir: mosdef.Rcheck Warnings: 0