Package: mosdef Version: 1.3.1 Command: E:\biocbuild\bbs-3.21-bioc\R\bin\R.exe CMD INSTALL mosdef StartedAt: 2025-02-09 16:29:10 -0500 (Sun, 09 Feb 2025) EndedAt: 2025-02-09 16:30:07 -0500 (Sun, 09 Feb 2025) EllapsedTime: 57.0 seconds RetCode: 0 Status: OK