Package: motifStack Version: 1.51.1 Command: /Library/Frameworks/R.framework/Resources/bin/R CMD build --keep-empty-dirs --no-resave-data motifStack StartedAt: 2025-02-09 17:01:39 -0500 (Sun, 09 Feb 2025) EndedAt: 2025-02-09 17:02:28 -0500 (Sun, 09 Feb 2025) EllapsedTime: 49.5 seconds RetCode: 0 Status: OK PackageFile: motifStack_1.51.1.tar.gz PackageFileSize: 3.749 MiB