Package: motifStack Version: 1.51.1 Command: /Library/Frameworks/R.framework/Resources/bin/R CMD INSTALL motifStack StartedAt: 2025-02-04 15:15:00 -0500 (Tue, 04 Feb 2025) EndedAt: 2025-02-04 15:15:19 -0500 (Tue, 04 Feb 2025) EllapsedTime: 19.4 seconds RetCode: 0 Status: OK