Package: motifStack Version: 1.51.1 Command: /home/biocbuild/R/R/bin/R CMD check --install=check:motifStack.install-out.txt --library=/home/biocbuild/R/R/site-library --no-vignettes --timings motifStack_1.51.1.tar.gz StartedAt: 2025-01-28 12:45:39 -0000 (Tue, 28 Jan 2025) EndedAt: 2025-01-28 12:53:49 -0000 (Tue, 28 Jan 2025) EllapsedTime: 490.6 seconds RetCode: 0 Status: OK CheckDir: motifStack.Rcheck Warnings: 0