Package: motifStack Version: 1.51.1 Command: /home/biocbuild/R/R/bin/R CMD INSTALL motifStack StartedAt: 2025-01-29 20:04:51 -0000 (Wed, 29 Jan 2025) EndedAt: 2025-01-29 20:06:00 -0000 (Wed, 29 Jan 2025) EllapsedTime: 68.6 seconds RetCode: 0 Status: OK