Package: motifStack Version: 1.51.1 Command: /Library/Frameworks/R.framework/Resources/bin/R CMD build --keep-empty-dirs --no-resave-data motifStack StartedAt: 2025-02-04 17:29:11 -0500 (Tue, 04 Feb 2025) EndedAt: 2025-02-04 17:31:54 -0500 (Tue, 04 Feb 2025) EllapsedTime: 163.1 seconds RetCode: 0 Status: OK PackageFile: motifStack_1.51.1.tar.gz PackageFileSize: 3.791 MiB