Package: motifStack Version: 1.51.1 Command: /Library/Frameworks/R.framework/Resources/bin/R CMD check --install=check:motifStack.install-out.txt --library=/Library/Frameworks/R.framework/Resources/library --no-vignettes --timings motifStack_1.51.1.tar.gz StartedAt: 2025-02-09 22:05:18 -0500 (Sun, 09 Feb 2025) EndedAt: 2025-02-09 22:11:36 -0500 (Sun, 09 Feb 2025) EllapsedTime: 378.2 seconds RetCode: 0 Status: OK CheckDir: motifStack.Rcheck Warnings: 0