Package: motifStack Version: 1.51.1 Command: /home/biocbuild/bbs-3.21-bioc/R/bin/R CMD INSTALL motifStack StartedAt: 2025-02-04 15:49:57 -0500 (Tue, 04 Feb 2025) EndedAt: 2025-02-04 15:50:48 -0500 (Tue, 04 Feb 2025) EllapsedTime: 50.2 seconds RetCode: 0 Status: OK