Package: motifStack Version: 1.51.1 Command: rm -rf motifStack.buildbin-libdir && mkdir motifStack.buildbin-libdir && E:\biocbuild\bbs-3.21-bioc\R\bin\R.exe CMD INSTALL --build --library=motifStack.buildbin-libdir motifStack_1.51.1.tar.gz StartedAt: 2025-02-05 08:24:19 -0500 (Wed, 05 Feb 2025) EndedAt: 2025-02-05 08:25:51 -0500 (Wed, 05 Feb 2025) EllapsedTime: 91.4 seconds RetCode: 0 Status: OK PackageFile: motifStack_1.51.1.zip PackageFileSize: 1.441 MiB