Package: motifbreakR Version: 2.21.0 Command: /Library/Frameworks/R.framework/Resources/bin/R CMD build --keep-empty-dirs --no-resave-data motifbreakR StartedAt: 2025-02-12 17:01:15 -0500 (Wed, 12 Feb 2025) EndedAt: 2025-02-12 17:03:52 -0500 (Wed, 12 Feb 2025) EllapsedTime: 157.7 seconds RetCode: 0 Status: OK PackageFile: motifbreakR_2.21.0.tar.gz PackageFileSize: 2.49 MiB