Package: motifbreakR Version: 2.21.0 Command: /home/biocbuild/bbs-3.21-bioc/R/bin/R CMD build --keep-empty-dirs --no-resave-data motifbreakR StartedAt: 2025-02-04 18:12:56 -0500 (Tue, 04 Feb 2025) EndedAt: 2025-02-04 18:19:32 -0500 (Tue, 04 Feb 2025) EllapsedTime: 395.4 seconds RetCode: 0 Status: OK PackageFile: motifbreakR_2.21.0.tar.gz PackageFileSize: 2.302 MiB