Package: motifbreakR Version: 2.21.0 Command: rm -rf motifbreakR.buildbin-libdir && mkdir motifbreakR.buildbin-libdir && E:\biocbuild\bbs-3.21-bioc\R\bin\R.exe CMD INSTALL --build --library=motifbreakR.buildbin-libdir motifbreakR_2.21.0.tar.gz StartedAt: 2025-02-05 08:24:02 -0500 (Wed, 05 Feb 2025) EndedAt: 2025-02-05 08:25:32 -0500 (Wed, 05 Feb 2025) EllapsedTime: 89.4 seconds RetCode: 0 Status: OK PackageFile: motifbreakR_2.21.0.zip PackageFileSize: 2.007 MiB