Package: motifbreakR Version: 2.21.0 Command: chmod a+r motifbreakR -R && E:\biocbuild\bbs-3.21-bioc\R\bin\R.exe CMD build --keep-empty-dirs --no-resave-data motifbreakR StartedAt: 2025-02-04 20:06:47 -0500 (Tue, 04 Feb 2025) EndedAt: 2025-02-04 20:19:37 -0500 (Tue, 04 Feb 2025) EllapsedTime: 769.6 seconds RetCode: 0 Status: OK PackageFile: motifbreakR_2.21.0.tar.gz PackageFileSize: 2.047 MiB