Package: motifbreakR Version: 2.21.0 Command: E:\biocbuild\bbs-3.21-bioc\R\bin\R.exe CMD check --no-multiarch --install=check:motifbreakR.install-out.txt --library=E:\biocbuild\bbs-3.21-bioc\R\library --no-vignettes --timings motifbreakR_2.21.0.tar.gz StartedAt: 2025-02-10 03:10:31 -0500 (Mon, 10 Feb 2025) EndedAt: 2025-02-10 03:25:02 -0500 (Mon, 10 Feb 2025) EllapsedTime: 871.4 seconds RetCode: 0 Status: WARNINGS CheckDir: motifbreakR.Rcheck Warnings: 2