Package: motifcounter Version: 1.31.0 Command: rm -rf motifcounter.buildbin-libdir && mkdir motifcounter.buildbin-libdir && /Users/biocbuild/BBS/utils/build-universal.sh motifcounter_1.31.0.tar.gz /Library/Frameworks/R.framework/Resources/bin/R motifcounter.buildbin-libdir StartedAt: 2025-02-10 01:03:58 -0500 (Mon, 10 Feb 2025) EndedAt: 2025-02-10 01:04:22 -0500 (Mon, 10 Feb 2025) EllapsedTime: 24.0 seconds RetCode: 0 Status: OK PackageFile: motifcounter_1.31.0.tgz PackageFileSize: 744.4 KiB