Package: motifcounter Version: 1.31.0 Command: /Library/Frameworks/R.framework/Resources/bin/R CMD build --keep-empty-dirs --no-resave-data motifcounter StartedAt: 2025-02-09 17:33:48 -0500 (Sun, 09 Feb 2025) EndedAt: 2025-02-09 17:35:40 -0500 (Sun, 09 Feb 2025) EllapsedTime: 111.8 seconds RetCode: 0 Status: OK PackageFile: motifcounter_1.31.0.tar.gz PackageFileSize: 611.1 KiB