Package: motifcounter Version: 1.31.0 Command: /Library/Frameworks/R.framework/Resources/bin/R CMD check --install=check:motifcounter.install-out.txt --library=/Library/Frameworks/R.framework/Resources/library --no-vignettes --timings motifcounter_1.31.0.tar.gz StartedAt: 2025-02-09 22:04:23 -0500 (Sun, 09 Feb 2025) EndedAt: 2025-02-09 22:07:53 -0500 (Sun, 09 Feb 2025) EllapsedTime: 209.7 seconds RetCode: 0 Status: OK CheckDir: motifcounter.Rcheck Warnings: 0