Package: motifcounter Version: 1.31.0 Command: /home/biocbuild/bbs-3.21-bioc/R/bin/R CMD check --install=check:motifcounter.install-out.txt --library=/home/biocbuild/bbs-3.21-bioc/R/site-library --timings motifcounter_1.31.0.tar.gz StartedAt: 2025-02-10 00:23:55 -0500 (Mon, 10 Feb 2025) EndedAt: 2025-02-10 00:28:16 -0500 (Mon, 10 Feb 2025) EllapsedTime: 261.2 seconds RetCode: 0 Status: OK CheckDir: motifcounter.Rcheck Warnings: 0