Package: motifcounter Version: 1.31.0 Command: chmod a+r motifcounter -R && E:\biocbuild\bbs-3.21-bioc\R\bin\R.exe CMD build --keep-empty-dirs --no-resave-data motifcounter StartedAt: 2025-02-09 20:04:23 -0500 (Sun, 09 Feb 2025) EndedAt: 2025-02-09 20:05:48 -0500 (Sun, 09 Feb 2025) EllapsedTime: 84.8 seconds RetCode: 0 Status: OK PackageFile: motifcounter_1.31.0.tar.gz PackageFileSize: 452.8 KiB