Package: motifcounter Version: 1.31.0 Command: E:\biocbuild\bbs-3.21-bioc\R\bin\R.exe CMD INSTALL motifcounter StartedAt: 2025-02-09 15:45:59 -0500 (Sun, 09 Feb 2025) EndedAt: 2025-02-09 15:47:11 -0500 (Sun, 09 Feb 2025) EllapsedTime: 72.5 seconds RetCode: 0 Status: OK