Package: motifmatchr Version: 1.29.0 Command: /Library/Frameworks/R.framework/Resources/bin/R CMD build --keep-empty-dirs --no-resave-data motifmatchr StartedAt: 2025-02-05 17:02:20 -0500 (Wed, 05 Feb 2025) EndedAt: 2025-02-05 17:03:11 -0500 (Wed, 05 Feb 2025) EllapsedTime: 51.5 seconds RetCode: 0 Status: OK PackageFile: motifmatchr_1.29.0.tar.gz PackageFileSize: 51.97 KiB