Package: motifmatchr Version: 1.29.0 Command: /Library/Frameworks/R.framework/Resources/bin/R CMD INSTALL motifmatchr StartedAt: 2025-02-05 15:11:17 -0500 (Wed, 05 Feb 2025) EndedAt: 2025-02-05 15:11:41 -0500 (Wed, 05 Feb 2025) EllapsedTime: 23.5 seconds RetCode: 0 Status: OK