Package: motifmatchr Version: 1.29.0 Command: /home/biocbuild/R/R/bin/R CMD build --keep-empty-dirs --no-resave-data motifmatchr StartedAt: 2025-01-29 00:33:37 -0000 (Wed, 29 Jan 2025) EndedAt: 2025-01-29 00:36:20 -0000 (Wed, 29 Jan 2025) EllapsedTime: 163.0 seconds RetCode: 0 Status: OK PackageFile: motifmatchr_1.29.0.tar.gz PackageFileSize: 52.69 KiB