Package: motifmatchr Version: 1.29.0 Command: /home/biocbuild/R/R/bin/R CMD check --install=check:motifmatchr.install-out.txt --library=/home/biocbuild/R/R/site-library --no-vignettes --timings motifmatchr_1.29.0.tar.gz StartedAt: 2025-01-28 12:45:13 -0000 (Tue, 28 Jan 2025) EndedAt: 2025-01-28 12:52:15 -0000 (Tue, 28 Jan 2025) EllapsedTime: 422.6 seconds RetCode: 0 Status: OK CheckDir: motifmatchr.Rcheck Warnings: 0